BEGIN:VCALENDAR
VERSION:2.0
PRODID:-//Testujemy369 - ECPv6.15.20//NONSGML v1.0//EN
CALSCALE:GREGORIAN
METHOD:PUBLISH
X-WR-CALNAME:Testujemy369
X-ORIGINAL-URL:https://testujemy369.pl
X-WR-CALDESC:Wydarzenia dla Testujemy369
REFRESH-INTERVAL;VALUE=DURATION:PT1H
X-Robots-Tag:noindex
X-PUBLISHED-TTL:PT1H
BEGIN:VTIMEZONE
TZID:UTC
BEGIN:STANDARD
TZOFFSETFROM:+0000
TZOFFSETTO:+0000
TZNAME:UTC
DTSTART:20250101T000000
END:STANDARD
END:VTIMEZONE
BEGIN:VEVENT
DTSTART;TZID=UTC:20260519T100000
DTEND;TZID=UTC:20260521T170000
DTSTAMP:20260420T101229
CREATED:20260415T055727Z
LAST-MODIFIED:20260415T060145Z
UID:379-1779184800-1779382800@testujemy369.pl
SUMMARY:Testujemy369 Na targach Techniki Warsztatowej
DESCRIPTION:Treść jest chroniona.
URL:https://testujemy369.pl/wydarzenia/testujemy369-na-targach-techniki-warsztatowej/
LOCATION:Targi techniki warsztatowej\, Al. Katowicka 62\, Nadarzyn\, Mazowieckie\, 05-830\, Poland
END:VEVENT
END:VCALENDAR